BEGIN:VCALENDAR
VERSION:2.0
PRODID:-//Kendra Smiley - ECPv4.9.10//NONSGML v1.0//EN
CALSCALE:GREGORIAN
METHOD:PUBLISH
X-WR-CALNAME:Kendra Smiley
X-ORIGINAL-URL:http://kendrasmiley.com
X-WR-CALDESC:Events for Kendra Smiley
BEGIN:VTIMEZONE
TZID:UTC
BEGIN:STANDARD
TZOFFSETFROM:+0000
TZOFFSETTO:+0000
TZNAME:UTC
DTSTART:20190101T000000
END:STANDARD
END:VTIMEZONE
BEGIN:VEVENT
DTSTART;TZID=UTC:20190330T090000
DTEND;TZID=UTC:20190330T160000
DTSTAMP:20260423T232141
CREATED:20181205T154828Z
LAST-MODIFIED:20181205T154828Z
UID:482-1553936400-1553961600@kendrasmiley.com
SUMMARY:Women's Spring Retreat Watseka\, IL
DESCRIPTION:For more information about this event contact Trinity Church at 815-432-4070 \n
URL:http://kendrasmiley.com/event/womens-spring-retreat-watseka-il/
LOCATION:Trinity Church\, 1658 E. Walnut St\, Watseka\, IL\, 60970\, United States
ORGANIZER;CN="Connie%20Hustedt":MAILTO:cl52@hustedtfarms.com
END:VEVENT
END:VCALENDAR