BEGIN:VCALENDAR
VERSION:2.0
PRODID:-//Kendra Smiley - ECPv4.9.10//NONSGML v1.0//EN
CALSCALE:GREGORIAN
METHOD:PUBLISH
X-WR-CALNAME:Kendra Smiley
X-ORIGINAL-URL:http://kendrasmiley.com
X-WR-CALDESC:Events for Kendra Smiley
BEGIN:VTIMEZONE
TZID:UTC
BEGIN:STANDARD
TZOFFSETFROM:+0000
TZOFFSETTO:+0000
TZNAME:UTC
DTSTART:20190101T000000
END:STANDARD
END:VTIMEZONE
BEGIN:VEVENT
DTSTART;VALUE=DATE:20190707
DTEND;VALUE=DATE:20190708
DTSTAMP:20260423T220504
CREATED:20180903T134200Z
LAST-MODIFIED:20190805T170710Z
UID:458-1562457600-1562543999@kendrasmiley.com
SUMMARY:WLACC Ladies Retreat West Lafayette\, IN
DESCRIPTION:For more information about this even please Email. \n
URL:http://kendrasmiley.com/event/wlacc-ladies-retreat-west-lafayette-in/
LOCATION:West Lafayette Apostolic Christian Church\, 6101 N CR 75E\, West Lafayette\, IN\, 47906\, United States
END:VEVENT
END:VCALENDAR