BEGIN:VCALENDAR
VERSION:2.0
PRODID:-//Kendra Smiley - ECPv4.9.10//NONSGML v1.0//EN
CALSCALE:GREGORIAN
METHOD:PUBLISH
X-WR-CALNAME:Kendra Smiley
X-ORIGINAL-URL:http://kendrasmiley.com
X-WR-CALDESC:Events for Kendra Smiley
BEGIN:VTIMEZONE
TZID:UTC
BEGIN:STANDARD
TZOFFSETFROM:+0000
TZOFFSETTO:+0000
TZNAME:UTC
DTSTART:20190101T000000
END:STANDARD
END:VTIMEZONE
BEGIN:VEVENT
DTSTART;TZID=UTC:20190215T080000
DTEND;TZID=UTC:20190215T140000
DTSTAMP:20260424T014929
CREATED:20180324T025702Z
LAST-MODIFIED:20180324T025702Z
UID:410-1550217600-1550239200@kendrasmiley.com
SUMMARY:Tri-County Institute 2019\, Centralia\, IL
DESCRIPTION:For more information about this upcoming event please email LaVonda Nichols. \n
URL:http://kendrasmiley.com/event/tri-county-institute-2019-centralia-il/
LOCATION:Centralia High School\, 2100 E. Calumet Street\, Centralia\, IL\, 62801\, United States
ORGANIZER;CN="LaVonda%20Nichols":MAILTO:lnichols@ksed801.com
END:VEVENT
END:VCALENDAR