BEGIN:VCALENDAR
VERSION:2.0
PRODID:-//Kendra Smiley - ECPv4.9.10//NONSGML v1.0//EN
CALSCALE:GREGORIAN
METHOD:PUBLISH
X-WR-CALNAME:Kendra Smiley
X-ORIGINAL-URL:http://kendrasmiley.com
X-WR-CALDESC:Events for Kendra Smiley
BEGIN:VTIMEZONE
TZID:UTC
BEGIN:STANDARD
TZOFFSETFROM:+0000
TZOFFSETTO:+0000
TZNAME:UTC
DTSTART:20180101T000000
END:STANDARD
END:VTIMEZONE
BEGIN:VEVENT
DTSTART;TZID=UTC:20180216T080000
DTEND;TZID=UTC:20180216T140000
DTSTAMP:20260424T061554
CREATED:20170510T030817Z
LAST-MODIFIED:20170510T030817Z
UID:214-1518768000-1518789600@kendrasmiley.com
SUMMARY:Tri-county Institute 2018
DESCRIPTION:Tri-county Institute 2018 \nKaskaskia Special Education District #801 \nCentralia\, IL \n
URL:http://kendrasmiley.com/event/tri-county-institute-2018/
LOCATION:Centralia High School\, 2100 E Calumet Street\, Centralia\, IL\, 62801\, United States
ORGANIZER;CN="LaVonda%20Nichols":MAILTO:lnichols@ksed801.com
END:VEVENT
END:VCALENDAR