BEGIN:VCALENDAR
VERSION:2.0
PRODID:-//Kendra Smiley - ECPv4.9.10//NONSGML v1.0//EN
CALSCALE:GREGORIAN
METHOD:PUBLISH
X-WR-CALNAME:Kendra Smiley
X-ORIGINAL-URL:http://kendrasmiley.com
X-WR-CALDESC:Events for Kendra Smiley
BEGIN:VTIMEZONE
TZID:UTC
BEGIN:STANDARD
TZOFFSETFROM:+0000
TZOFFSETTO:+0000
TZNAME:UTC
DTSTART:20170101T000000
END:STANDARD
END:VTIMEZONE
BEGIN:VEVENT
DTSTART;TZID=UTC:20170417T080000
DTEND;TZID=UTC:20170417T170000
DTSTAMP:20260424T101819
CREATED:20170330T225902Z
LAST-MODIFIED:20170330T225902Z
UID:107-1492416000-1492448400@kendrasmiley.com
SUMMARY:Speaking - Farming
DESCRIPTION:
URL:http://kendrasmiley.com/event/speaking-farming/
END:VEVENT
END:VCALENDAR