BEGIN:VCALENDAR
VERSION:2.0
PRODID:-//Kendra Smiley - ECPv4.9.10//NONSGML v1.0//EN
CALSCALE:GREGORIAN
METHOD:PUBLISH
X-WR-CALNAME:Kendra Smiley
X-ORIGINAL-URL:http://kendrasmiley.com
X-WR-CALDESC:Events for Kendra Smiley
BEGIN:VTIMEZONE
TZID:UTC
BEGIN:STANDARD
TZOFFSETFROM:+0000
TZOFFSETTO:+0000
TZNAME:UTC
DTSTART:20180101T000000
END:STANDARD
END:VTIMEZONE
BEGIN:VEVENT
DTSTART;VALUE=DATE:20180310
DTEND;VALUE=DATE:20180311
DTSTAMP:20260424T050011
CREATED:20170804T161527Z
LAST-MODIFIED:20170804T161554Z
UID:263-1520640000-1520726399@kendrasmiley.com
SUMMARY:Soul Sisters in Fellowship Saint Joseph\, IL
DESCRIPTION:Soul Sisters in Fellowship at Saint Joseph Church of Christ in Saint Joseph Illinois \nFor more information please contact Sandra Powell at sandrakay0908@gmail.com \n
URL:http://kendrasmiley.com/event/soul-sisters-in-fellowship-saint-joseph-il/
LOCATION:Saint Joseph Church of Christ\, 226 Sherman Street\, Saint Joseph\, 61873\, United States
END:VEVENT
END:VCALENDAR