BEGIN:VCALENDAR
VERSION:2.0
PRODID:-//Kendra Smiley - ECPv4.9.10//NONSGML v1.0//EN
CALSCALE:GREGORIAN
METHOD:PUBLISH
X-WR-CALNAME:Kendra Smiley
X-ORIGINAL-URL:http://kendrasmiley.com
X-WR-CALDESC:Events for Kendra Smiley
BEGIN:VTIMEZONE
TZID:UTC
BEGIN:STANDARD
TZOFFSETFROM:+0000
TZOFFSETTO:+0000
TZNAME:UTC
DTSTART:20190101T000000
END:STANDARD
END:VTIMEZONE
BEGIN:VEVENT
DTSTART;TZID=UTC:20190622T090000
DTEND;TZID=UTC:20190622T150000
DTSTAMP:20260423T204446
CREATED:20190523T175249Z
LAST-MODIFIED:20190523T175249Z
UID:510-1561194000-1561215600@kendrasmiley.com
SUMMARY:REAL Women's conference\, Mattoon\, IL
DESCRIPTION:For more information about this event please Email. \n
URL:http://kendrasmiley.com/event/real-womens-conference-mattoon-il-2/
LOCATION:Mattoon High School\, 2521 Wabash Ave\, Mattoon\, IL\, 61938\, United States
ORGANIZER;CN="Lori%20Morton":MAILTO:mamalori@yahoo.com
END:VEVENT
END:VCALENDAR