BEGIN:VCALENDAR
VERSION:2.0
PRODID:-//Kendra Smiley - ECPv4.9.10//NONSGML v1.0//EN
CALSCALE:GREGORIAN
METHOD:PUBLISH
X-WR-CALNAME:Kendra Smiley
X-ORIGINAL-URL:http://kendrasmiley.com
X-WR-CALDESC:Events for Kendra Smiley
BEGIN:VTIMEZONE
TZID:UTC
BEGIN:STANDARD
TZOFFSETFROM:+0000
TZOFFSETTO:+0000
TZNAME:UTC
DTSTART:20200101T000000
END:STANDARD
END:VTIMEZONE
BEGIN:VEVENT
DTSTART;TZID=UTC:20200328T080000
DTEND;TZID=UTC:20200328T150000
DTSTAMP:20260423T182559
CREATED:20191015T141604Z
LAST-MODIFIED:20191015T141604Z
UID:567-1585382400-1585407600@kendrasmiley.com
SUMMARY:Next Level Parenting in Rural America Mayville\, WI
DESCRIPTION:For more information about this event please email. \n
URL:http://kendrasmiley.com/event/next-level-parenting-in-rural-america-mayville-wi/
LOCATION:Mayville High School\, 500 N Clark Street\, Mayville\, WI\, 53050\, United States
ORGANIZER;CN="Amber%20Schraufnagel":MAILTO:arschraufnagel@mayvilleopendoor.org
END:VEVENT
END:VCALENDAR