BEGIN:VCALENDAR
VERSION:2.0
PRODID:-//Kendra Smiley - ECPv4.9.10//NONSGML v1.0//EN
CALSCALE:GREGORIAN
METHOD:PUBLISH
X-WR-CALNAME:Kendra Smiley
X-ORIGINAL-URL:http://kendrasmiley.com
X-WR-CALDESC:Events for Kendra Smiley
BEGIN:VTIMEZONE
TZID:UTC
BEGIN:STANDARD
TZOFFSETFROM:+0000
TZOFFSETTO:+0000
TZNAME:UTC
DTSTART:20180101T000000
END:STANDARD
END:VTIMEZONE
BEGIN:VEVENT
DTSTART;TZID=UTC:20180426T190000
DTEND;TZID=UTC:20180426T210000
DTSTAMP:20260424T030853
CREATED:20180313T213709Z
LAST-MODIFIED:20180313T213709Z
UID:397-1524769200-1524776400@kendrasmiley.com
SUMMARY:Monticello Mom's Group\, Monticello\, IL
DESCRIPTION:For more information about this event please email or call the church office at 271-762-2579 \n
URL:http://kendrasmiley.com/event/monticello-moms-group-monticello-il/
LOCATION:Monticello United Methodist Church\, 2020 E. Washington\, Monticello\, IL\, 61856\, United States
ORGANIZER;CN="Mary%20Catherine%20St.%20John":MAILTO:mc_stjohn@hotmail.com
END:VEVENT
END:VCALENDAR