BEGIN:VCALENDAR
VERSION:2.0
PRODID:-//Kendra Smiley - ECPv4.9.10//NONSGML v1.0//EN
CALSCALE:GREGORIAN
METHOD:PUBLISH
X-WR-CALNAME:Kendra Smiley
X-ORIGINAL-URL:http://kendrasmiley.com
X-WR-CALDESC:Events for Kendra Smiley
BEGIN:VTIMEZONE
TZID:UTC
BEGIN:STANDARD
TZOFFSETFROM:+0000
TZOFFSETTO:+0000
TZNAME:UTC
DTSTART:20190101T000000
END:STANDARD
END:VTIMEZONE
BEGIN:VEVENT
DTSTART;TZID=UTC:20191207T090000
DTEND;TZID=UTC:20191207T110000
DTSTAMP:20260423T230838
CREATED:20190523T173442Z
LAST-MODIFIED:20190523T181638Z
UID:497-1575709200-1575716400@kendrasmiley.com
SUMMARY:Living Waters Ladies Tea\, Peoria\, IL
DESCRIPTION:For more information about this event\, please Email \n  \n
URL:http://kendrasmiley.com/event/living-waters-ladies-tea-peoria-il/
LOCATION:Living Waters Lutheran Church\, 7229 N. Knoxville Ave\, Peoria\, IL\, 61614\, United States
ORGANIZER;CN="Mary%20HIlding":MAILTO:mhilding@yahoo.com
END:VEVENT
END:VCALENDAR