BEGIN:VCALENDAR
VERSION:2.0
PRODID:-//Kendra Smiley - ECPv4.9.10//NONSGML v1.0//EN
CALSCALE:GREGORIAN
METHOD:PUBLISH
X-WR-CALNAME:Kendra Smiley
X-ORIGINAL-URL:http://kendrasmiley.com
X-WR-CALDESC:Events for Kendra Smiley
BEGIN:VTIMEZONE
TZID:UTC
BEGIN:STANDARD
TZOFFSETFROM:+0000
TZOFFSETTO:+0000
TZNAME:UTC
DTSTART:20170101T000000
END:STANDARD
END:VTIMEZONE
BEGIN:VEVENT
DTSTART;TZID=UTC:20170501T080000
DTEND;TZID=UTC:20170501T083000
DTSTAMP:20260424T073432
CREATED:20170510T154240Z
LAST-MODIFIED:20170510T154240Z
UID:220-1493625600-1493627400@kendrasmiley.com
SUMMARY:Live on WBGL Morning Show with Johnathon and Lindsey
DESCRIPTION:
URL:http://kendrasmiley.com/event/live-on-wbgl-morning-show-with-johnathon-and-lindsey/
LOCATION:WBGL
END:VEVENT
END:VCALENDAR