BEGIN:VCALENDAR
VERSION:2.0
PRODID:-//Kendra Smiley - ECPv4.9.10//NONSGML v1.0//EN
CALSCALE:GREGORIAN
METHOD:PUBLISH
X-WR-CALNAME:Kendra Smiley
X-ORIGINAL-URL:http://kendrasmiley.com
X-WR-CALDESC:Events for Kendra Smiley
BEGIN:VTIMEZONE
TZID:UTC
BEGIN:STANDARD
TZOFFSETFROM:+0000
TZOFFSETTO:+0000
TZNAME:UTC
DTSTART:20190101T000000
END:STANDARD
END:VTIMEZONE
BEGIN:VEVENT
DTSTART;TZID=UTC:20191019T100000
DTEND;TZID=UTC:20191019T170000
DTSTAMP:20260423T232325
CREATED:20190523T174306Z
LAST-MODIFIED:20190805T190747Z
UID:502-1571479200-1571504400@kendrasmiley.com
SUMMARY:Ladies Fall Luncheon\, Palos Country Club\, Orland Park\, IL
DESCRIPTION:For more information about this event please Email. \n
URL:http://kendrasmiley.com/event/ladies-fall-luncheon-palos-country-club-orland-park-il/
LOCATION:Palos Country Club\, 13100 Southwest Highway\, Orland Park\, IL\, 60462\, United States
ORGANIZER;CN="Kathy%20Gilmore":MAILTO:kgilmore@tlcs.org
END:VEVENT
END:VCALENDAR