BEGIN:VCALENDAR
VERSION:2.0
PRODID:-//Kendra Smiley - ECPv4.9.10//NONSGML v1.0//EN
CALSCALE:GREGORIAN
METHOD:PUBLISH
X-WR-CALNAME:Kendra Smiley
X-ORIGINAL-URL:http://kendrasmiley.com
X-WR-CALDESC:Events for Kendra Smiley
BEGIN:VTIMEZONE
TZID:UTC
BEGIN:STANDARD
TZOFFSETFROM:+0000
TZOFFSETTO:+0000
TZNAME:UTC
DTSTART:20170101T000000
END:STANDARD
END:VTIMEZONE
BEGIN:VEVENT
DTSTART;TZID=UTC:20170506T090000
DTEND;TZID=UTC:20170506T140000
DTSTAMP:20260424T090447
CREATED:20170509T222723Z
LAST-MODIFIED:20170509T222723Z
UID:182-1494061200-1494079200@kendrasmiley.com
SUMMARY:Kendra Smiley at Glamour Farms Boutique
DESCRIPTION:Join Kendra at Glamour Farms Boutique in Louisville\, IL Saturday\, May 6th! \n
URL:http://kendrasmiley.com/event/kendra-smiley-at-glamour-farms-boutique/
LOCATION:Glamour Farms Boutique\, 250 Route 45 South\, Louisville\, IL\, 62858\, United States
ORGANIZER;CN="Elizabeth%20Partridge":MAILTO:elizabeth@glamourfarms.com
END:VEVENT
END:VCALENDAR