BEGIN:VCALENDAR
VERSION:2.0
PRODID:-//Kendra Smiley - ECPv4.9.10//NONSGML v1.0//EN
CALSCALE:GREGORIAN
METHOD:PUBLISH
X-WR-CALNAME:Kendra Smiley
X-ORIGINAL-URL:http://kendrasmiley.com
X-WR-CALDESC:Events for Kendra Smiley
BEGIN:VTIMEZONE
TZID:UTC
BEGIN:STANDARD
TZOFFSETFROM:+0000
TZOFFSETTO:+0000
TZNAME:UTC
DTSTART:20190101T000000
END:STANDARD
END:VTIMEZONE
BEGIN:VEVENT
DTSTART;TZID=UTC:20191010T110000
DTEND;TZID=UTC:20191010T130000
DTSTAMP:20260423T215823
CREATED:20190523T174805Z
LAST-MODIFIED:20190523T174805Z
UID:507-1570705200-1570712400@kendrasmiley.com
SUMMARY:Inspiring Speaker Series\, Second Presbyterian Church\, Indianapolis\, IN
DESCRIPTION:For more information please Email. \n
URL:http://kendrasmiley.com/event/inspiring-speaker-series-second-presbyterian-church-indianapolis-in/
LOCATION:Second Presbyterian Church\, 7700 N. Meridian Street\, Indianapolis\, IN\, 46260\, United States
END:VEVENT
END:VCALENDAR