BEGIN:VCALENDAR
VERSION:2.0
PRODID:-//Kendra Smiley - ECPv4.9.10//NONSGML v1.0//EN
CALSCALE:GREGORIAN
METHOD:PUBLISH
X-WR-CALNAME:Kendra Smiley
X-ORIGINAL-URL:http://kendrasmiley.com
X-WR-CALDESC:Events for Kendra Smiley
BEGIN:VTIMEZONE
TZID:UTC
BEGIN:STANDARD
TZOFFSETFROM:+0000
TZOFFSETTO:+0000
TZNAME:UTC
DTSTART:20190101T000000
END:STANDARD
END:VTIMEZONE
BEGIN:VEVENT
DTSTART;TZID=UTC:20191010T110000
DTEND;TZID=UTC:20191010T130000
DTSTAMP:20260424T002452
CREATED:20180903T134826Z
LAST-MODIFIED:20180903T134826Z
UID:462-1570705200-1570712400@kendrasmiley.com
SUMMARY:Inspiring Speaker Series.  2nd Presbyterian Church Indianapolis\, IN
DESCRIPTION:For more information please Email. \n
URL:http://kendrasmiley.com/event/inspiring-speaker-series-2nd-presbyterian-church-indianapolis-in/
LOCATION:Second Presbyterian Church\, 7700 N. Meridian Street\, Indianapolis\, IN\, 46260\, United States
ORGANIZER;CN="Sue%20Guyton":MAILTO:suegoyton@sbcglobal.net
END:VEVENT
END:VCALENDAR