BEGIN:VCALENDAR
VERSION:2.0
PRODID:-//Kendra Smiley - ECPv4.9.10//NONSGML v1.0//EN
CALSCALE:GREGORIAN
METHOD:PUBLISH
X-WR-CALNAME:Kendra Smiley
X-ORIGINAL-URL:http://kendrasmiley.com
X-WR-CALDESC:Events for Kendra Smiley
BEGIN:VTIMEZONE
TZID:UTC
BEGIN:STANDARD
TZOFFSETFROM:+0000
TZOFFSETTO:+0000
TZNAME:UTC
DTSTART:20180101T000000
END:STANDARD
END:VTIMEZONE
BEGIN:VEVENT
DTSTART;TZID=UTC:20180927T090000
DTEND;TZID=UTC:20180927T110000
DTSTAMP:20260424T003402
CREATED:20180514T145833Z
LAST-MODIFIED:20180514T145833Z
UID:445-1538038800-1538046000@kendrasmiley.com
SUMMARY:Faith Church Beecher MOPS\, Beecher\, IL
DESCRIPTION:For more information about this even please email or call the church office at:708-946-2545 \n
URL:http://kendrasmiley.com/event/faith-church-beecher-mops-beecher-il/
LOCATION:Faith Church Beecher\, 201 E Church Rd.\, Beecher\, IL\, 60401\, United States
END:VEVENT
END:VCALENDAR