BEGIN:VCALENDAR
VERSION:2.0
PRODID:-//Kendra Smiley - ECPv4.9.10//NONSGML v1.0//EN
CALSCALE:GREGORIAN
METHOD:PUBLISH
X-WR-CALNAME:Kendra Smiley
X-ORIGINAL-URL:http://kendrasmiley.com
X-WR-CALDESC:Events for Kendra Smiley
BEGIN:VTIMEZONE
TZID:UTC
BEGIN:STANDARD
TZOFFSETFROM:+0000
TZOFFSETTO:+0000
TZNAME:UTC
DTSTART:20190101T000000
END:STANDARD
END:VTIMEZONE
BEGIN:VEVENT
DTSTART;TZID=UTC:20190921T090000
DTEND;TZID=UTC:20190921T150000
DTSTAMP:20260423T182700
CREATED:20190805T184600Z
LAST-MODIFIED:20190805T184636Z
UID:537-1569056400-1569078000@kendrasmiley.com
SUMMARY:Fabulous Ladies Conference  Christian Life Center\,  Fort Lauderdale\, FL
DESCRIPTION:For more information about this event please visit the Christian Life Center webiste. \n
URL:http://kendrasmiley.com/event/fabulous-ladies-conference-christian-life-center-fort-lauderdale-fl/
LOCATION:Christian LIfe Center\, Fort Lauderdale\, FL\, 33309\, United States
ORGANIZER;CN="Danielle%20Reyes":MAILTO:danielle@clcftl.org
END:VEVENT
END:VCALENDAR