BEGIN:VCALENDAR
VERSION:2.0
PRODID:-//Kendra Smiley - ECPv4.9.10//NONSGML v1.0//EN
CALSCALE:GREGORIAN
METHOD:PUBLISH
X-WR-CALNAME:Kendra Smiley
X-ORIGINAL-URL:http://kendrasmiley.com
X-WR-CALDESC:Events for Kendra Smiley
BEGIN:VTIMEZONE
TZID:UTC
BEGIN:STANDARD
TZOFFSETFROM:+0000
TZOFFSETTO:+0000
TZNAME:UTC
DTSTART:20170101T000000
END:STANDARD
END:VTIMEZONE
BEGIN:VEVENT
DTSTART;VALUE=DATE:20171202
DTEND;VALUE=DATE:20171203
DTSTAMP:20260424T050632
CREATED:20171031T211808Z
LAST-MODIFIED:20171031T211809Z
UID:287-1512172800-1512259199@kendrasmiley.com
SUMMARY:Cornerstone Ministries Christmas Tea Woodland\, IL
DESCRIPTION:Christmas Tea \nFor more information please email Leah or call the church office at 815-473-0052 \n
URL:http://kendrasmiley.com/event/cornerstone-ministries-christmas-tea-woodland-il/
LOCATION:Cornerstone Ministries Church\, 200 Half Street\, Woodland\, IL\, 60974\, United States
END:VEVENT
END:VCALENDAR