BEGIN:VCALENDAR
VERSION:2.0
PRODID:-//Kendra Smiley - ECPv4.9.10//NONSGML v1.0//EN
CALSCALE:GREGORIAN
METHOD:PUBLISH
X-WR-CALNAME:Kendra Smiley
X-ORIGINAL-URL:http://kendrasmiley.com
X-WR-CALDESC:Events for Kendra Smiley
BEGIN:VTIMEZONE
TZID:UTC
BEGIN:STANDARD
TZOFFSETFROM:+0000
TZOFFSETTO:+0000
TZNAME:UTC
DTSTART:20200101T000000
END:STANDARD
END:VTIMEZONE
BEGIN:VEVENT
DTSTART;TZID=UTC:20200307T090000
DTEND;TZID=UTC:20200307T150000
DTSTAMP:20260423T182716
CREATED:20190805T190024Z
LAST-MODIFIED:20190805T190115Z
UID:545-1583571600-1583593200@kendrasmiley.com
SUMMARY:Clear the Heart Clutter & Live Free  First Baptist Church of Nokomis\,  Nokomis\, IL
DESCRIPTION:For more information about this event please email. \n
URL:http://kendrasmiley.com/event/clear-the-heart-clutter-live-free-first-baptist-church-of-nokomis-nokomis-il/
LOCATION:First Baptist Church of Nokomis\, 211 E. South Street\, Nokomis\, IL\, 62075\, United States
ORGANIZER;CN="Amanda%20Kuhn":MAILTO:amandakuhn@gmail.com
END:VEVENT
END:VCALENDAR