BEGIN:VCALENDAR
VERSION:2.0
PRODID:-//Kendra Smiley - ECPv4.9.10//NONSGML v1.0//EN
CALSCALE:GREGORIAN
METHOD:PUBLISH
X-WR-CALNAME:Kendra Smiley
X-ORIGINAL-URL:http://kendrasmiley.com
X-WR-CALDESC:Events for Kendra Smiley
BEGIN:VTIMEZONE
TZID:UTC
BEGIN:STANDARD
TZOFFSETFROM:+0000
TZOFFSETTO:+0000
TZNAME:UTC
DTSTART:20190101T000000
END:STANDARD
END:VTIMEZONE
BEGIN:VEVENT
DTSTART;VALUE=DATE:20190921
DTEND;VALUE=DATE:20190922
DTSTAMP:20260424T130823
CREATED:20190523T175918Z
LAST-MODIFIED:20190523T175918Z
UID:514-1569024000-1569110399@kendrasmiley.com
SUMMARY:Christian Life Center\, Fort Lauderdale\, FL
DESCRIPTION:For more information please Email. \n
URL:http://kendrasmiley.com/event/christian-life-center-fort-lauderdale-fl/
LOCATION:Christian LIfe Center\, Fort Lauderdale\, FL\, 33309\, United States
ORGANIZER;CN="Danielle%20Reyes":MAILTO:danielle@clcftl.org
END:VEVENT
END:VCALENDAR