BEGIN:VCALENDAR
VERSION:2.0
PRODID:-//Kendra Smiley - ECPv4.9.10//NONSGML v1.0//EN
CALSCALE:GREGORIAN
METHOD:PUBLISH
X-WR-CALNAME:Kendra Smiley
X-ORIGINAL-URL:http://kendrasmiley.com
X-WR-CALDESC:Events for Kendra Smiley
BEGIN:VTIMEZONE
TZID:UTC
BEGIN:STANDARD
TZOFFSETFROM:+0000
TZOFFSETTO:+0000
TZNAME:UTC
DTSTART:20180101T000000
END:STANDARD
END:VTIMEZONE
BEGIN:VEVENT
DTSTART;TZID=UTC:20180422T100000
DTEND;TZID=UTC:20180422T120000
DTSTAMP:20260424T032153
CREATED:20180117T220735Z
LAST-MODIFIED:20180405T235815Z
UID:347-1524391200-1524398400@kendrasmiley.com
SUMMARY:Celebrate the Gifts of Women (Women's Praise Service) First Presbyterian Church\, Fairbury\, IL
DESCRIPTION:Kendra will be sharing the morning message.  For more information about this event please contact the event coordinator\, Michelle Clemons\, via email: jmclemons602@gmail.com \n
URL:http://kendrasmiley.com/event/celebrate-the-gifts-of-women-womens-praise-service-first-presbyterian-church-fairbury-il/
LOCATION:First Presbyterian Church\, 101 E Elm Street\, Fairbury\, IL\, 61739\, United States
END:VEVENT
END:VCALENDAR