BEGIN:VCALENDAR
VERSION:2.0
PRODID:-//Kendra Smiley - ECPv4.9.10//NONSGML v1.0//EN
CALSCALE:GREGORIAN
METHOD:PUBLISH
X-WR-CALNAME:Kendra Smiley
X-ORIGINAL-URL:http://kendrasmiley.com
X-WR-CALDESC:Events for Kendra Smiley
BEGIN:VTIMEZONE
TZID:UTC
BEGIN:STANDARD
TZOFFSETFROM:+0000
TZOFFSETTO:+0000
TZNAME:UTC
DTSTART:20170101T000000
END:STANDARD
END:VTIMEZONE
BEGIN:VEVENT
DTSTART;TZID=UTC:20170517T190000
DTEND;TZID=UTC:20170517T210000
DTSTAMP:20260424T091148
CREATED:20170509T224101Z
LAST-MODIFIED:20170509T224101Z
UID:191-1495047600-1495054800@kendrasmiley.com
SUMMARY:Calling All Mom's @ Park Community Church
DESCRIPTION:Calling All Mom’s \nPark Community Church \n
URL:http://kendrasmiley.com/event/calling-all-moms-park-community-church/
LOCATION:Park Community Church\, 1001 N Crosby St\, Chicago\, IL\, 60610\, United States
ORGANIZER;CN="Kayla%20Proanao":MAILTO:kproano@parkcommunitychurch.org
END:VEVENT
END:VCALENDAR